BEGIN:VCALENDAR
VERSION:2.0
PRODID:-//Intand Corporation//Tandem//EN
METHOD:PUBLISH
BEGIN:VEVENT
DTSTAMP:20260424T014516Z
DTSTART:20190228T213000Z
DTEND:20190301T000000Z
TRANSP:TRANSPARENT
PRIORITY:0
SUMMARY:LHS- Boys & Girls District Week Practices
LOCATION:LHS Cokely Gym\, LHS Fieldhouse Gym
DESCRIPTION:Groups:\nLHS Boys Basketball\nLHS Girls Basketball\n\nSchools:
 \nLiberty High School\n\nLocations:\nLHS Cokely Gym\nLHS Fieldhouse Gym\n\
 n
URL;VALUE=URI:http://liberty53.tandem.co/index.php?type=view&action=event&
 id=329544
CREATED:20181022T164939Z
LAST-MODIFIED:20181022T164939Z
UID:event-329544-liberty53@intand.com
END:VEVENT
END:VCALENDAR
