BEGIN:VCALENDAR
VERSION:2.0
PRODID:-//Intand Corporation//Tandem//EN
METHOD:PUBLISH
BEGIN:VEVENT
DTSTAMP:20260424T055130Z
DTSTART:20181023T223000Z
DTEND:20181024T003000Z
TRANSP:TRANSPARENT
PRIORITY:0
SUMMARY:LO - Prodigy Youth Baseball Practice
LOCATION:LOE Baseball Field
DESCRIPTION:Groups:\nProdigy Baseball Academy\n\nSchools:\nLiberty Oaks El
 ementary\n\nLocation:\nLOE Baseball Field\n\n
URL;VALUE=URI:http://liberty53.tandem.co/index.php?type=view&action=event&
 id=329534
CREATED:20181022T163758Z
LAST-MODIFIED:20181022T163758Z
UID:event-329534-liberty53@intand.com
END:VEVENT
END:VCALENDAR
