BEGIN:VCALENDAR
VERSION:2.0
PRODID:-//Intand Corporation//Tandem//EN
METHOD:PUBLISH
BEGIN:VEVENT
DTSTAMP:20260424T061306Z
DTSTART:20190130T213000Z
DTEND:20190130T233000Z
TRANSP:TRANSPARENT
PRIORITY:0
SUMMARY:LHS- Boys Basketball Practice
LOCATION:LHS Fieldhouse Gym
DESCRIPTION:Groups:\nLHS Boys Basketball JV/Varsity\nLHS Boys Basketball S
 ophomore\n\nSchools:\nLiberty High School\n\nLocation:\nLHS Fieldhouse Gym
 \n\n
URL;VALUE=URI:http://liberty53.tandem.co/index.php?type=view&action=event&
 id=329490
CREATED:20181022T162015Z
LAST-MODIFIED:20181022T162015Z
UID:event-329490-liberty53@intand.com
END:VEVENT
END:VCALENDAR
