BEGIN:VCALENDAR
VERSION:2.0
PRODID:-//Intand Corporation//Tandem//EN
METHOD:PUBLISH
BEGIN:VEVENT
DTSTAMP:20260424T023525Z
DTSTART:20190328T230000Z
DTEND:20190329T020000Z
TRANSP:TRANSPARENT
PRIORITY:0
SUMMARY:LHS Winter Guard Rehearsal 
LOCATION:DMS Cafeteria
DESCRIPTION:Groups:\nLHS Color Guard\n\nSchools:\nLiberty High School\nDis
 covery Middle School\n\nLocation:\nDMS Cafeteria\n\n
URL;VALUE=URI:http://liberty53.tandem.co/index.php?type=view&action=event&
 id=329396
CREATED:20181022T135436Z
LAST-MODIFIED:20181022T150527Z
UID:event_request-329396-liberty53@intand.com
END:VEVENT
END:VCALENDAR
