BEGIN:VCALENDAR
VERSION:2.0
PRODID:-//Intand Corporation//Tandem//EN
METHOD:PUBLISH
BEGIN:VEVENT
DTSTAMP:20260424T041427Z
DTSTART:20181029T170000Z
DTEND:20181029T180000Z
TRANSP:TRANSPARENT
PRIORITY:0
SUMMARY:LHS BC hat sales (lunch)
LOCATION:LHS Cafeteria
DESCRIPTION:We need one sales table for lunches on these days. Thanks!\n\n
 Groups:\nLHS Breakfast Club\n\nSchools:\nLiberty High School\n\nLocation:\
 nLHS Cafeteria\n\nWe need one sales table for lunches on these days. Thank
 s!\n\n
X-ALT-DESC;FMTTYPE=text/html:<!doctype html><html><body><span>We need one 
 sales table for lunches on these days. Thanks!</span><br /><br />Groups:<b
 r />LHS Breakfast Club<br /><br />Schools:<br />Liberty High School<br /><
 br />Location:<br />LHS Cafeteria<br /><br />Notes:<br />We need one sales
  table for lunches on these days. Thanks!<br /></body></html>
URL;VALUE=URI:http://liberty53.tandem.co/index.php?type=view&action=event&
 id=329357
CREATED:20181019T164128Z
LAST-MODIFIED:20181019T175536Z
UID:event_request-329357-liberty53@intand.com
END:VEVENT
END:VCALENDAR
