BEGIN:VCALENDAR
VERSION:2.0
PRODID:-//Intand Corporation//Tandem//EN
METHOD:PUBLISH
BEGIN:VEVENT
DTSTAMP:20260424T024117Z
DTSTART:20181031T123000Z
DTEND:20181031T170000Z
TRANSP:TRANSPARENT
PRIORITY:0
SUMMARY:LN Marty mtg
LOCATION:LNHS Room 707
DESCRIPTION:Groups:\nLNHS Staff\n\nSchools:\nLiberty North High School\n\n
 Location:\nLNHS Room 707\n\n
URL;VALUE=URI:http://liberty53.tandem.co/index.php?type=view&action=event&
 id=329318
CREATED:20181017T194849Z
LAST-MODIFIED:20181017T194849Z
UID:event-329318-liberty53@intand.com
END:VEVENT
END:VCALENDAR
