BEGIN:VCALENDAR
VERSION:2.0
PRODID:-//Intand Corporation//Tandem//EN
METHOD:PUBLISH
BEGIN:VEVENT
DTSTAMP:20260424T034828Z
DTSTART:20181113T140000Z
DTEND:20181113T173000Z
TRANSP:TRANSPARENT
PRIORITY:0
SUMMARY:DAC- 408 Special Service Meeting
LOCATION:DAC 4 - 408
DESCRIPTION:Groups:\nSSC Special Services Staff\nDAC Innovation & Learning
 \n\nSchools:\nDistrict Administration Center\n\nLocation:\nDAC 4 - 408\n\n
URL;VALUE=URI:http://liberty53.tandem.co/index.php?type=view&action=event&
 id=329258
CREATED:20181016T181105Z
LAST-MODIFIED:20181016T193736Z
UID:event_request-329258-liberty53@intand.com
END:VEVENT
END:VCALENDAR
