BEGIN:VCALENDAR
VERSION:2.0
PRODID:-//Intand Corporation//Tandem//EN
METHOD:PUBLISH
BEGIN:VEVENT
DTSTAMP:20260424T055153Z
DTSTART;VALUE=DATE:20181130
DTEND;VALUE=DATE:20181201
TRANSP:TRANSPARENT
PRIORITY:0
SUMMARY:LN WBB 9 A at St Teresa's
LOCATION:St. Teresa's Academy
DESCRIPTION:Setup: TBD\nBreakdown: TBD\n\nDepart: TBD\nReturn: TBD\n\nGrou
 ps:\nLNHS Basketball - Girls C-Team\n\nSchools:\nLiberty North High School
 \n\nLocation:\nSt. Teresa's Academy\n\n
URL;VALUE=URI:http://liberty53.tandem.co/index.php?type=view&action=event&
 id=329177
CREATED:20181016T131426Z
LAST-MODIFIED:20181016T131426Z
UID:event-329177-liberty53@intand.com
END:VEVENT
END:VCALENDAR
