BEGIN:VCALENDAR
VERSION:2.0
PRODID:-//Intand Corporation//Tandem//EN
METHOD:PUBLISH
BEGIN:VEVENT
DTSTAMP:20260424T034802Z
DTSTART:20190122T220000Z
DTEND:20190123T055959Z
TRANSP:TRANSPARENT
PRIORITY:0
SUMMARY:[Cancelled] LN WR JV/V at Staley
LOCATION:Staley High School
DESCRIPTION:Breakdown: TBD\n\nReturn: TBD\n\nGroups:\nLNHS Wrestling - Boy
 s JV/Varsity\n\nSchools:\nLiberty North High School\n\nLocation:\nStaley H
 igh School\n\n
URL;VALUE=URI:http://liberty53.tandem.co/index.php?type=view&action=event&
 id=329169
CREATED:20181016T124951Z
LAST-MODIFIED:20190122T221632Z
UID:event-329169-liberty53@intand.com
END:VEVENT
END:VCALENDAR
