BEGIN:VCALENDAR
VERSION:2.0
PRODID:-//Intand Corporation//Tandem//EN
METHOD:PUBLISH
BEGIN:VEVENT
DTSTAMP:20260424T073539Z
DTSTART:20190115T230000Z
DTEND:20190116T055959Z
TRANSP:TRANSPARENT
PRIORITY:0
SUMMARY:LN WR JV/V at Central
LOCATION:St. Joe Central High
DESCRIPTION:Breakdown: TBD\n\nReturn: TBD\n\nGroups:\nLNHS Wrestling - Boy
 s JV/Varsity\n\nSchools:\nSt. Joe Central High\nLiberty North High School\
 n\nLocation:\nSt. Joe Central High\n\n
URL;VALUE=URI:http://liberty53.tandem.co/index.php?type=view&action=event&
 id=329167
CREATED:20181016T124730Z
LAST-MODIFIED:20181016T124730Z
UID:event-329167-liberty53@intand.com
END:VEVENT
END:VCALENDAR
