BEGIN:VCALENDAR
VERSION:2.0
PRODID:-//Intand Corporation//Tandem//EN
METHOD:PUBLISH
BEGIN:VEVENT
DTSTAMP:20260424T055315Z
DTSTART;VALUE=DATE:20181208
DTEND;VALUE=DATE:20181209
TRANSP:TRANSPARENT
PRIORITY:0
SUMMARY:LN WR V at SMNW Invite
LOCATION:SHAWNEE MISSION NORTHWEST HIGH
DESCRIPTION:Setup: TBD\nBreakdown: TBD\n\nDepart: TBD\nReturn: TBD\n\nGrou
 ps:\nLNHS Wrestling - Boys JV/Varsity\n\nSchools:\nSHAWNEE MISSION NORTHWE
 ST HIGH\nLiberty North High School\n\nLocation:\nSHAWNEE MISSION NORTHWEST
  HIGH\n\n
URL;VALUE=URI:http://liberty53.tandem.co/index.php?type=view&action=event&
 id=329159
CREATED:20181016T123644Z
LAST-MODIFIED:20181016T123644Z
UID:event-329159-liberty53@intand.com
END:VEVENT
END:VCALENDAR
