BEGIN:VCALENDAR
VERSION:2.0
PRODID:-//Intand Corporation//Tandem//EN
METHOD:PUBLISH
BEGIN:VEVENT
DTSTAMP:20260424T072958Z
DTSTART:20181205T000000Z
DTEND:20181205T055959Z
TRANSP:TRANSPARENT
PRIORITY:0
SUMMARY:LN WR JV/V at Rockhurst
LOCATION:Rockhurst High School
DESCRIPTION:Breakdown: TBD\n\nReturn: TBD\n\nGroups:\nLNHS Wrestling - Boy
 s JV/Varsity\n\nSchools:\nRockhurst High School\nLiberty North High School
 \n\nLocation:\nRockhurst High School\n\n
URL;VALUE=URI:http://liberty53.tandem.co/index.php?type=view&action=event&
 id=329158
CREATED:20181016T123536Z
LAST-MODIFIED:20181016T123536Z
UID:event-329158-liberty53@intand.com
END:VEVENT
END:VCALENDAR
