BEGIN:VCALENDAR
VERSION:2.0
PRODID:-//Intand Corporation//Tandem//EN
METHOD:PUBLISH
BEGIN:VEVENT
DTSTAMP:20260424T055203Z
DTSTART;VALUE=DATE:20181201
DTEND;VALUE=DATE:20181202
TRANSP:TRANSPARENT
PRIORITY:0
SUMMARY:LN WR V at Grain Valley Invite
LOCATION:Grain Valley High
DESCRIPTION:Setup: TBD\nBreakdown: TBD\n\nDepart: TBD\nReturn: TBD\n\nGrou
 ps:\nLNHS Wrestling - Boys JV/Varsity\n\nSchools:\nGrain Valley High\nLibe
 rty North High School\n\nLocation:\nGrain Valley High\n\n
URL;VALUE=URI:http://liberty53.tandem.co/index.php?type=view&action=event&
 id=329157
CREATED:20181016T123459Z
LAST-MODIFIED:20181016T123459Z
UID:event-329157-liberty53@intand.com
END:VEVENT
END:VCALENDAR
