BEGIN:VCALENDAR
VERSION:2.0
PRODID:-//Intand Corporation//Tandem//EN
METHOD:PUBLISH
BEGIN:VEVENT
DTSTAMP:20260424T050046Z
DTSTART:20190205T000000Z
DTEND:20190205T055959Z
TRANSP:TRANSPARENT
PRIORITY:0
SUMMARY:LN MBB Soph vs WChrisman
LOCATION:LNHS Aux Gym - 407 (GH HVAC)
DESCRIPTION:Breakdown: TBD\n\nReturn: TBD\n\nGroups:\nLNHS Basketball - Bo
 ys Sophomore\n\nSchools:\nLiberty North High School\n\nLocation:\nLNHS Aux
  Gym - 407 (GH HVAC)\n\n
URL;VALUE=URI:http://liberty53.tandem.co/index.php?type=view&action=event&
 id=329145
CREATED:20181016T121815Z
LAST-MODIFIED:20181016T121815Z
UID:event-329145-liberty53@intand.com
END:VEVENT
END:VCALENDAR
