BEGIN:VCALENDAR
VERSION:2.0
PRODID:-//Intand Corporation//Tandem//EN
METHOD:PUBLISH
BEGIN:VEVENT
DTSTAMP:20260424T053902Z
DTSTART:20190116T233000Z
DTEND:20190117T055959Z
TRANSP:TRANSPARENT
PRIORITY:0
SUMMARY:LN MBB Soph at PHill
LOCATION:Park Hill High School
DESCRIPTION:Breakdown: TBD\n\nReturn: TBD\n\nGroups:\nLNHS Basketball - Bo
 ys Sophomore\n\nSchools:\nLiberty North High School\n\nLocation:\nPark Hil
 l High School\n\n
URL;VALUE=URI:http://liberty53.tandem.co/index.php?type=view&action=event&
 id=329139
CREATED:20181016T121337Z
LAST-MODIFIED:20181016T121337Z
UID:event-329139-liberty53@intand.com
END:VEVENT
END:VCALENDAR
