BEGIN:VCALENDAR
VERSION:2.0
PRODID:-//Intand Corporation//Tandem//EN
METHOD:PUBLISH
BEGIN:VEVENT
DTSTAMP:20260424T092249Z
DTSTART:20190116T000000Z
DTEND:20190116T055959Z
TRANSP:TRANSPARENT
PRIORITY:0
SUMMARY:LN MBB Soph vs LSummit
LOCATION:LNHS Fieldhouse (GH HVAC)
DESCRIPTION:Breakdown: TBD\n\nReturn: TBD\n\nGroups:\nLNHS Basketball - Bo
 ys Sophomore\n\nSchools:\nLiberty North High School\n\nLocation:\nLNHS Fie
 ldhouse (GH HVAC)\n\n
URL;VALUE=URI:http://liberty53.tandem.co/index.php?type=view&action=event&
 id=329138
CREATED:20181016T121250Z
LAST-MODIFIED:20181016T121250Z
UID:event-329138-liberty53@intand.com
END:VEVENT
END:VCALENDAR
