BEGIN:VCALENDAR
VERSION:2.0
PRODID:-//Intand Corporation//Tandem//EN
METHOD:PUBLISH
BEGIN:VEVENT
DTSTAMP:20260424T041357Z
DTSTART:20181018T123000Z
DTEND:20181018T130000Z
TRANSP:TRANSPARENT
PRIORITY:0
SUMMARY:IEP meeting
LOCATION:LHS Administrative Conference Room
DESCRIPTION:Groups:\nLHS SPED\n\nSchools:\nLiberty High School\n\nLocation
 :\nLHS Administrative Conference Room\n\n
URL;VALUE=URI:http://liberty53.tandem.co/index.php?type=view&action=event&
 id=329103
CREATED:20181015T185815Z
LAST-MODIFIED:20181016T141927Z
UID:event_request-329103-liberty53@intand.com
END:VEVENT
END:VCALENDAR
