BEGIN:VCALENDAR
VERSION:2.0
PRODID:-//Intand Corporation//Tandem//EN
METHOD:PUBLISH
BEGIN:VEVENT
DTSTAMP:20260424T073534Z
DTSTART:20190218T160000Z
DTEND:20190218T183000Z
TRANSP:TRANSPARENT
PRIORITY:0
SUMMARY:LNMBB - V/JV Practice
LOCATION:LNHS Aux Gym - 407 (GH HVAC)
DESCRIPTION:Groups:\nLNHS Basketball - Boys JV/Varsity\n\nSchools:\nLibert
 y North High School\n\nLocation:\nLNHS Aux Gym - 407 (GH HVAC)\n\n
URL;VALUE=URI:http://liberty53.tandem.co/index.php?type=view&action=event&
 id=328895
CREATED:20181012T003616Z
LAST-MODIFIED:20190216T170536Z
UID:event_request-328895-liberty53@intand.com
END:VEVENT
END:VCALENDAR
