BEGIN:VCALENDAR
VERSION:2.0
PRODID:-//Intand Corporation//Tandem//EN
METHOD:PUBLISH
BEGIN:VEVENT
DTSTAMP:20260424T054041Z
DTSTART:20181126T213000Z
DTEND:20181126T233000Z
TRANSP:TRANSPARENT
PRIORITY:0
SUMMARY:LNMBB - V/JV Practice
LOCATION:LNHS Aux Gym - 407 (GH HVAC)
DESCRIPTION:Groups:\nLNHS Basketball - Boys JV/Varsity\n\nSchools:\nLibert
 y North High School\n\nLocation:\nLNHS Aux Gym - 407 (GH HVAC)\n\n
URL;VALUE=URI:http://liberty53.tandem.co/index.php?type=view&action=event&
 id=328829
CREATED:20181011T232235Z
LAST-MODIFIED:20181126T181644Z
UID:event_request-328829-liberty53@intand.com
END:VEVENT
END:VCALENDAR
