BEGIN:VCALENDAR
VERSION:2.0
PRODID:-//Intand Corporation//Tandem//EN
METHOD:PUBLISH
BEGIN:VEVENT
DTSTAMP:20260424T023541Z
DTSTART:20181130T213000Z
DTEND:20181201T023000Z
TRANSP:TRANSPARENT
PRIORITY:0
SUMMARY:Book Club Movie Night
LOCATION:LNHS LMC - 200
DESCRIPTION:Groups:\nLNHS Grade 9\nLNHS Grade 12\nLNHS Grade 11\nLNHS Grad
 e 10\n\nSchools:\nLiberty North High School\n\nLocation:\nLNHS LMC - 200\n
 \n
URL;VALUE=URI:http://liberty53.tandem.co/index.php?type=view&action=event&
 id=328801
CREATED:20181011T172105Z
LAST-MODIFIED:20181012T150645Z
UID:event_request-328801-liberty53@intand.com
END:VEVENT
END:VCALENDAR
