BEGIN:VCALENDAR
VERSION:2.0
PRODID:-//Intand Corporation//Tandem//EN
METHOD:PUBLISH
BEGIN:VEVENT
DTSTAMP:20260424T091531Z
DTSTART:20181101T123000Z
DTEND:20181101T203000Z
TRANSP:TRANSPARENT
PRIORITY:0
SUMMARY:LN Future Finance
LOCATION:LNHS Aux Gym - 407 (GH HVAC)
DESCRIPTION:Groups:\nLNHS Grade 11\n\nSchools:\nLiberty North High School\
 n\nLocation:\nLNHS Aux Gym - 407 (GH HVAC)\n\n
URL;VALUE=URI:http://liberty53.tandem.co/index.php?type=view&action=event&
 id=328789
CREATED:20181010T211634Z
LAST-MODIFIED:20181012T150532Z
UID:event_request-328789-liberty53@intand.com
END:VEVENT
END:VCALENDAR
