BEGIN:VCALENDAR
VERSION:2.0
PRODID:-//Intand Corporation//Tandem//EN
METHOD:PUBLISH
BEGIN:VEVENT
DTSTAMP:20260424T055409Z
DTSTART:20181129T000000Z
DTEND:20181129T020000Z
TRANSP:TRANSPARENT
PRIORITY:0
SUMMARY:[Cancelled] Girl Scout Troop 2120
LOCATION:SCE Great Hall
DESCRIPTION:Groups:\nGirl Scout Troop 2120\n\nSchools:\nShoal Creek Elemen
 tary\n\nLocation:\nSCE Great Hall\n\n
URL;VALUE=URI:http://liberty53.tandem.co/index.php?type=view&action=event&
 id=328654
CREATED:20181010T132002Z
LAST-MODIFIED:20181015T134303Z
UID:event-328654-liberty53@intand.com
END:VEVENT
END:VCALENDAR
