BEGIN:VCALENDAR
VERSION:2.0
PRODID:-//Intand Corporation//Tandem//EN
METHOD:PUBLISH
BEGIN:VEVENT
DTSTAMP:20260424T043925Z
DTSTART:20190128T120000Z
DTEND:20190128T130000Z
TRANSP:TRANSPARENT
PRIORITY:0
SUMMARY:LNWR AM Lifting
LOCATION:LNHS Room 428-Weight Room
DESCRIPTION:Groups:\nLNHS Wrestling - Boys JV/Varsity\n\nSchools:\nLiberty
  North High School\n\nLocation:\nLNHS Room 428-Weight Room\n\n
URL;VALUE=URI:http://liberty53.tandem.co/index.php?type=view&action=event&
 id=328591
CREATED:20181009T174422Z
LAST-MODIFIED:20181009T193313Z
UID:event_request-328591-liberty53@intand.com
END:VEVENT
END:VCALENDAR
