BEGIN:VCALENDAR
VERSION:2.0
PRODID:-//Intand Corporation//Tandem//EN
METHOD:PUBLISH
BEGIN:VEVENT
DTSTAMP:20260424T055214Z
DTSTART:20181029T220000Z
DTEND:20181030T020000Z
TRANSP:TRANSPARENT
PRIORITY:0
SUMMARY:Freshman Football Banquet
LOCATION:LNHS Cafeteria (GH HVAC)
DESCRIPTION:Groups:\nLNHS Football - Freshman\n\nSchools:\nLiberty North H
 igh School\n\nLocation:\nLNHS Cafeteria (GH HVAC)\n\n
URL;VALUE=URI:http://liberty53.tandem.co/index.php?type=view&action=event&
 id=328512
CREATED:20181009T162302Z
LAST-MODIFIED:20181009T193139Z
UID:event_request-328512-liberty53@intand.com
END:VEVENT
END:VCALENDAR
