BEGIN:VCALENDAR
VERSION:2.0
PRODID:-//Intand Corporation//Tandem//EN
METHOD:PUBLISH
BEGIN:VEVENT
DTSTAMP:20260424T014848Z
DTSTART:20190218T233000Z
DTEND:20190219T055959Z
TRANSP:TRANSPARENT
PRIORITY:0
SUMMARY:LN WBB JV/V vs PHSouth
LOCATION:LNHS Fieldhouse (GH HVAC)\, LNHS Aux Gym - 407 (GH HVAC)
DESCRIPTION:Breakdown: TBD\n\nReturn: TBD\n\nGroups:\nLNHS Basketball - Gi
 rls Varsity\nLNHS Basketball - Girls JV\nLNHS Basketball - Girls JV/Varsit
 y\n\nSchools:\nLiberty North High School\n\nLocations:\nLNHS Fieldhouse (G
 H HVAC)\nLNHS Aux Gym - 407 (GH HVAC)\n\n
URL;VALUE=URI:http://liberty53.tandem.co/index.php?type=view&action=event&
 id=328459
CREATED:20181009T135559Z
LAST-MODIFIED:20190216T162105Z
UID:event-328459-liberty53@intand.com
END:VEVENT
END:VCALENDAR
