BEGIN:VCALENDAR
VERSION:2.0
PRODID:-//Intand Corporation//Tandem//EN
METHOD:PUBLISH
BEGIN:VEVENT
DTSTAMP:20260424T055233Z
DTSTART:20190222T230000Z
DTEND:20190223T055959Z
TRANSP:TRANSPARENT
PRIORITY:0
SUMMARY:LN WBB JV/V vs LHS
LOCATION:LNHS Fieldhouse (GH HVAC)
DESCRIPTION:Breakdown: TBD\n\nReturn: TBD\n\nGroups:\nLNHS Basketball - Gi
 rls Varsity\nLNHS Basketball - Girls JV\nLNHS Basketball - Girls JV/Varsit
 y\n\nSchools:\nLiberty North High School\n\nLocation:\nLNHS Fieldhouse (GH
  HVAC)\n\n
URL;VALUE=URI:http://liberty53.tandem.co/index.php?type=view&action=event&
 id=328458
CREATED:20181009T135513Z
LAST-MODIFIED:20190216T162452Z
UID:event-328458-liberty53@intand.com
END:VEVENT
END:VCALENDAR
