BEGIN:VCALENDAR
VERSION:2.0
PRODID:-//Intand Corporation//Tandem//EN
METHOD:PUBLISH
BEGIN:VEVENT
DTSTAMP:20260424T040904Z
DTSTART:20190125T220000Z
DTEND:20190126T055959Z
TRANSP:TRANSPARENT
PRIORITY:0
SUMMARY:LN WBB JV/V at PHSouth
LOCATION:Park Hill South High
DESCRIPTION:Breakdown: TBD\n\nReturn: TBD\n\nGroups:\nLNHS Basketball - Gi
 rls JV/Varsity\nLNHS Basketball - Girls JV\nLNHS Basketball - Girls Varsit
 y\n\nSchools:\nPark Hill South High\nLiberty North High School\n\nLocation
 :\nPark Hill South High\n\n
URL;VALUE=URI:http://liberty53.tandem.co/index.php?type=view&action=event&
 id=328453
CREATED:20181009T135114Z
LAST-MODIFIED:20181009T135114Z
UID:event-328453-liberty53@intand.com
END:VEVENT
END:VCALENDAR
