BEGIN:VCALENDAR
VERSION:2.0
PRODID:-//Intand Corporation//Tandem//EN
METHOD:PUBLISH
BEGIN:VEVENT
DTSTAMP:20260424T023537Z
DTSTART;VALUE=DATE:20190118
DTEND;VALUE=DATE:20190119
TRANSP:TRANSPARENT
PRIORITY:0
SUMMARY:LN WBB JV at LSNorth Tourney
LOCATION:Lee's Summit North High School
DESCRIPTION:Setup: TBD\nBreakdown: TBD\n\nDepart: TBD\nReturn: TBD\n\nGrou
 ps:\nLNHS Basketball - Girls JV\n\nSchools:\nLiberty North High School\n\n
 Location:\nLee's Summit North High School\n\n
URL;VALUE=URI:http://liberty53.tandem.co/index.php?type=view&action=event&
 id=328451
CREATED:20181009T134817Z
LAST-MODIFIED:20181009T134817Z
UID:event-328451-liberty53@intand.com
END:VEVENT
END:VCALENDAR
