BEGIN:VCALENDAR
VERSION:2.0
PRODID:-//Intand Corporation//Tandem//EN
METHOD:PUBLISH
BEGIN:VEVENT
DTSTAMP:20260424T043635Z
DTSTART:20190107T233000Z
DTEND:20190108T055959Z
TRANSP:TRANSPARENT
PRIORITY:0
SUMMARY:LN WBB JV/V at Central
LOCATION:St. Joe Central High
DESCRIPTION:Breakdown: TBD\n\nReturn: TBD\n\nGroups:\nLNHS Basketball - Gi
 rls JV/Varsity\nLNHS Basketball - Girls JV\nLNHS Basketball - Girls Varsit
 y\n\nSchools:\nSt. Joe Central High\nLiberty North High School\n\nLocation
 :\nSt. Joe Central High\n\n
URL;VALUE=URI:http://liberty53.tandem.co/index.php?type=view&action=event&
 id=328439
CREATED:20181009T134339Z
LAST-MODIFIED:20181009T134339Z
UID:event-328439-liberty53@intand.com
END:VEVENT
END:VCALENDAR
