BEGIN:VCALENDAR
VERSION:2.0
PRODID:-//Intand Corporation//Tandem//EN
METHOD:PUBLISH
BEGIN:VEVENT
DTSTAMP:20260424T040524Z
DTSTART:20181212T233000Z
DTEND:20181213T055959Z
TRANSP:TRANSPARENT
PRIORITY:0
SUMMARY:LN WBB JV/V at Ray-Pec
LOCATION:Raymore-Peculiar Sr. High
DESCRIPTION:Breakdown: TBD\n\nReturn: TBD\n\nGroups:\nLNHS Basketball - Gi
 rls JV/Varsity\nLNHS Basketball - Girls JV\nLNHS Basketball - Girls Varsit
 y\n\nSchools:\nRaymore-Peculiar Sr. High\nLiberty North High School\n\nLoc
 ation:\nRaymore-Peculiar Sr. High\n\n
URL;VALUE=URI:http://liberty53.tandem.co/index.php?type=view&action=event&
 id=328432
CREATED:20181009T133712Z
LAST-MODIFIED:20181009T133712Z
UID:event-328432-liberty53@intand.com
END:VEVENT
END:VCALENDAR
