BEGIN:VCALENDAR
VERSION:2.0
PRODID:-//Intand Corporation//Tandem//EN
METHOD:PUBLISH
BEGIN:VEVENT
DTSTAMP:20260424T144241Z
DTSTART:20190223T200000Z
DTEND:20190224T055959Z
TRANSP:TRANSPARENT
PRIORITY:0
SUMMARY:LN MBB JV/V at Grandview
LOCATION:Grandview Sr. High
DESCRIPTION:Breakdown: TBD\n\nReturn: TBD\n\nGroups:\nLNHS Basketball - Bo
 ys Varsity\nLNHS Basketball - Boys JV\nLNHS Basketball - Boys JV/Varsity\n
 \nSchools:\nGrandview Sr. High\nLiberty North High School\n\nLocation:\nGr
 andview Sr. High\n\n
URL;VALUE=URI:http://liberty53.tandem.co/index.php?type=view&action=event&
 id=328418
CREATED:20181009T131411Z
LAST-MODIFIED:20190219T190215Z
UID:event-328418-liberty53@intand.com
END:VEVENT
END:VCALENDAR
