BEGIN:VCALENDAR
VERSION:2.0
PRODID:-//Intand Corporation//Tandem//EN
METHOD:PUBLISH
BEGIN:VEVENT
DTSTAMP:20260424T043635Z
DTSTART:20190218T223000Z
DTEND:20190219T055959Z
TRANSP:TRANSPARENT
PRIORITY:0
SUMMARY:LN MBB JV/V vs PHSouth
LOCATION:LNHS Fieldhouse (GH HVAC)
DESCRIPTION:Breakdown: TBD\n\nReturn: TBD\n\nGroups:\nLNHS Basketball - Bo
 ys Varsity\nLNHS Basketball - Boys JV\nLNHS Basketball - Boys JV/Varsity\n
 \nSchools:\nLiberty North High School\n\nLocation:\nLNHS Fieldhouse (GH HV
 AC)\n\n
URL;VALUE=URI:http://liberty53.tandem.co/index.php?type=view&action=event&
 id=328417
CREATED:20181009T131329Z
LAST-MODIFIED:20190216T162038Z
UID:event-328417-liberty53@intand.com
END:VEVENT
END:VCALENDAR
