BEGIN:VCALENDAR
VERSION:2.0
PRODID:-//Intand Corporation//Tandem//EN
METHOD:PUBLISH
BEGIN:VEVENT
DTSTAMP:20260424T055401Z
DTSTART:20181015T202000Z
DTEND:20181015T210500Z
TRANSP:TRANSPARENT
PRIORITY:0
SUMMARY:Student Gross Motor Lesson:  PM session #2
LOCATION:ECC Fireplace Room
DESCRIPTION:*Cara Lynch\, contact.\n\nGroups:\nECC Staff\nPAT Staff\n\nSch
 ools:\nEarly Childhood Education Center\n\nLocation:\nECC Fireplace Room\n
 \n
URL;VALUE=URI:http://liberty53.tandem.co/index.php?type=view&action=event&
 id=328338
CREATED:20181008T191106Z
LAST-MODIFIED:20181009T185444Z
UID:event-328338-liberty53@intand.com
END:VEVENT
END:VCALENDAR
