BEGIN:VCALENDAR
VERSION:2.0
PRODID:-//Intand Corporation//Tandem//EN
METHOD:PUBLISH
BEGIN:VEVENT
DTSTAMP:20260424T043920Z
DTSTART:20181010T120000Z
DTEND:20181010T140000Z
TRANSP:TRANSPARENT
PRIORITY:0
SUMMARY:SVMS-PICTURE RETAKES-LGIR-SVMS
LOCATION:SVMS LGIR
DESCRIPTION:Groups:\nSVMS Students\nSVMS Staff\n\nSchools:\nSouth Valley M
 iddle School\n\nLocation:\nSVMS LGIR\n\n
URL;VALUE=URI:http://liberty53.tandem.co/index.php?type=view&action=event&
 id=328315
CREATED:20181008T151530Z
LAST-MODIFIED:20181008T151530Z
UID:event-328315-liberty53@intand.com
END:VEVENT
END:VCALENDAR
