BEGIN:VCALENDAR
VERSION:2.0
PRODID:-//Intand Corporation//Tandem//EN
METHOD:PUBLISH
BEGIN:VEVENT
DTSTAMP:20260424T055355Z
DTSTART:20190306T180000Z
DTEND:20190306T213000Z
TRANSP:TRANSPARENT
PRIORITY:0
SUMMARY:LN EOS Team Meeting
LOCATION:LNHS Room 707
DESCRIPTION:Schools:\nLiberty North High School\n\nLocation:\nLNHS Room 70
 7\n\n
URL;VALUE=URI:http://liberty53.tandem.co/index.php?type=view&action=event&
 id=328301
CREATED:20181008T024357Z
LAST-MODIFIED:20181009T131605Z
UID:event_request-328301-liberty53@intand.com
END:VEVENT
END:VCALENDAR
