BEGIN:VCALENDAR
VERSION:2.0
PRODID:-//Intand Corporation//Tandem//EN
METHOD:PUBLISH
BEGIN:VEVENT
DTSTAMP:20260424T055512Z
DTSTART:20181008T201000Z
DTEND:20181008T223000Z
TRANSP:TRANSPARENT
PRIORITY:0
SUMMARY:LHS- C Team Practice Volleyball
LOCATION:LHS Cokely Gym
DESCRIPTION:Groups:\nLHS Volleyball\n\nSchools:\nLiberty High School\n\nLo
 cation:\nLHS Cokely Gym\n\n
URL;VALUE=URI:http://liberty53.tandem.co/index.php?type=view&action=event&
 id=328273
CREATED:20181007T145310Z
LAST-MODIFIED:20181007T145310Z
UID:event-328273-liberty53@intand.com
END:VEVENT
END:VCALENDAR
