BEGIN:VCALENDAR
VERSION:2.0
PRODID:-//Intand Corporation//Tandem//EN
METHOD:PUBLISH
BEGIN:VEVENT
DTSTAMP:20260424T074034Z
DTSTART:20181116T233000Z
DTEND:20181117T013000Z
TRANSP:TRANSPARENT
PRIORITY:0
SUMMARY:[Cancelled] KC Crossover 
LOCATION:LHS Cokely Gym
DESCRIPTION:Groups:\nKC Crossover Youth Basketball\n\nSchools:\nLiberty Hi
 gh School\n\nLocation:\nLHS Cokely Gym\n\n
URL;VALUE=URI:http://liberty53.tandem.co/index.php?type=view&action=event&
 id=328127
CREATED:20181003T180452Z
LAST-MODIFIED:20181112T132347Z
UID:event-328127-liberty53@intand.com
END:VEVENT
END:VCALENDAR
