BEGIN:VCALENDAR
VERSION:2.0
PRODID:-//Intand Corporation//Tandem//EN
METHOD:PUBLISH
BEGIN:VEVENT
DTSTAMP:20260424T061606Z
DTSTART:20181010T200000Z
DTEND:20181010T213000Z
TRANSP:TRANSPARENT
PRIORITY:0
SUMMARY:LNMSXC End of Season Celebration
LOCATION:HMS Cafeteria
DESCRIPTION:Groups:\nLNHS 8th Grade Cross Country\n\nSchools:\nSouth Valle
 y Middle School\nLiberty North High School\nHeritage Middle School\n\nLoca
 tion:\nHMS Cafeteria\n\n
URL;VALUE=URI:http://liberty53.tandem.co/index.php?type=view&action=event&
 id=328117
CREATED:20181003T144103Z
LAST-MODIFIED:20181004T012506Z
UID:event_request-328117-liberty53@intand.com
END:VEVENT
END:VCALENDAR
