BEGIN:VCALENDAR
VERSION:2.0
PRODID:-//Intand Corporation//Tandem//EN
METHOD:PUBLISH
BEGIN:VEVENT
DTSTAMP:20260424T092430Z
DTSTART:20181027T150000Z
DTEND:20181027T170000Z
TRANSP:TRANSPARENT
PRIORITY:0
SUMMARY:MSHSAA Class 4 Sectional Cross Country
LOCATION:Warriors' Best Friend Foundation\, LNHS Parking Lot
DESCRIPTION:Setup: 7:00 am\nBreakdown: 12:01 pm\n\nGroups:\nLNHS Cross Cou
 ntry\n\nSchools:\nLiberty North High School\n\nLocations:\nWarriors' Best 
 Friend Foundation\nLNHS Parking Lot\n\n
URL;VALUE=URI:http://liberty53.tandem.co/index.php?type=view&action=event&
 id=328113
CREATED:20181003T125850Z
LAST-MODIFIED:20181003T125850Z
UID:event-328113-liberty53@intand.com
END:VEVENT
END:VCALENDAR
