BEGIN:VCALENDAR
VERSION:2.0
PRODID:-//Intand Corporation//Tandem//EN
METHOD:PUBLISH
BEGIN:VEVENT
DTSTAMP:20260424T061411Z
DTSTART:20181004T120000Z
DTEND:20181004T130000Z
TRANSP:TRANSPARENT
PRIORITY:0
SUMMARY:SVMS-BURTON-CONF. STE. II-PARENT MTG.-SVMS
LOCATION:SVMS Conference Suite II
DESCRIPTION:Groups:\nSVMS Staff\n\nSchools:\nSouth Valley Middle School\n\
 nLocation:\nSVMS Conference Suite II\n\n
URL;VALUE=URI:http://liberty53.tandem.co/index.php?type=view&action=event&
 id=328108
CREATED:20181002T185726Z
LAST-MODIFIED:20181002T185726Z
UID:event-328108-liberty53@intand.com
END:VEVENT
END:VCALENDAR
