BEGIN:VCALENDAR
VERSION:2.0
PRODID:-//Intand Corporation//Tandem//EN
METHOD:PUBLISH
BEGIN:VEVENT
DTSTAMP:20260424T073549Z
DTSTART:20181013T130000Z
DTEND:20181013T210000Z
TRANSP:TRANSPARENT
PRIORITY:0
SUMMARY:LN FB - Sharks Football Fundraiser
LOCATION:LNHS Activity Complex
DESCRIPTION:Groups:\nLNHS Staff\n\nSchools:\nLiberty North High School\n\n
 Location:\nLNHS Activity Complex\n\n
URL;VALUE=URI:http://liberty53.tandem.co/index.php?type=view&action=event&
 id=328025
CREATED:20181002T134926Z
LAST-MODIFIED:20181002T134926Z
UID:event-328025-liberty53@intand.com
END:VEVENT
END:VCALENDAR
