BEGIN:VCALENDAR
VERSION:2.0
PRODID:-//Intand Corporation//Tandem//EN
METHOD:PUBLISH
BEGIN:VEVENT
DTSTAMP:20260424T041203Z
DTSTART:20181128T233000Z
DTEND:20181129T020000Z
TRANSP:TRANSPARENT
PRIORITY:0
SUMMARY:LHS-JV/Varsity Wrestling Match vs LS
LOCATION:LHS Fieldhouse Gym
DESCRIPTION:Groups:\nLHS Wrestling\n\nSchools:\nLiberty High School\n\nLoc
 ation:\nLHS Fieldhouse Gym\n\n
URL;VALUE=URI:http://liberty53.tandem.co/index.php?type=view&action=event&
 id=327927
CREATED:20180928T195944Z
LAST-MODIFIED:20181016T202129Z
UID:event-327927-liberty53@intand.com
END:VEVENT
END:VCALENDAR
