BEGIN:VCALENDAR
VERSION:2.0
PRODID:-//Intand Corporation//Tandem//EN
METHOD:PUBLISH
BEGIN:VEVENT
DTSTAMP:20260424T091058Z
DTSTART:20181101T163000Z
DTEND:20181101T170000Z
TRANSP:TRANSPARENT
PRIORITY:0
SUMMARY:LNHS NCAPs Student Q&A
LOCATION:LNHS Room 707
DESCRIPTION:Schools:\nLiberty North High School\n\nLocation:\nLNHS Room 70
 7\n\n
URL;VALUE=URI:http://liberty53.tandem.co/index.php?type=view&action=event&
 id=327892
CREATED:20180928T142227Z
LAST-MODIFIED:20180928T143130Z
UID:event_request-327892-liberty53@intand.com
END:VEVENT
END:VCALENDAR
