BEGIN:VCALENDAR
VERSION:2.0
PRODID:-//Intand Corporation//Tandem//EN
METHOD:PUBLISH
BEGIN:VEVENT
DTSTAMP:20260424T023936Z
DTSTART:20181013T130000Z
DTEND:20181013T220000Z
TRANSP:TRANSPARENT
PRIORITY:0
SUMMARY:Show Me Rugby Classic
LOCATION:DMS Football Field
DESCRIPTION:Groups:\nLNHS Rugby\n\nSchools:\nLiberty North High School\nDi
 scovery Middle School\n\nLocation:\nDMS Football Field\n\n
URL;VALUE=URI:http://liberty53.tandem.co/index.php?type=view&action=event&
 id=327880
CREATED:20180928T012733Z
LAST-MODIFIED:20180928T113153Z
UID:event_request-327880-liberty53@intand.com
END:VEVENT
END:VCALENDAR
