BEGIN:VCALENDAR
VERSION:2.0
PRODID:-//Intand Corporation//Tandem//EN
METHOD:PUBLISH
BEGIN:VEVENT
DTSTAMP:20260424T055602Z
DTSTART:20181022T120000Z
DTEND:20181022T193000Z
TRANSP:TRANSPARENT
PRIORITY:0
SUMMARY:[Cancelled] SVMS-CONF. STE. I-HOLDEN-6TH GRADE PREVENTION-SVMS
LOCATION:SVMS Conference Suite I
DESCRIPTION:Groups:\nSVMS Counselors\n\nSchools:\nSouth Valley Middle Scho
 ol\n\nLocation:\nSVMS Conference Suite I\n\n
URL;VALUE=URI:http://liberty53.tandem.co/index.php?type=view&action=event&
 id=327843
CREATED:20180927T165743Z
LAST-MODIFIED:20181019T161208Z
UID:event-327843-liberty53@intand.com
END:VEVENT
END:VCALENDAR
