BEGIN:VCALENDAR
VERSION:2.0
PRODID:-//Intand Corporation//Tandem//EN
METHOD:PUBLISH
BEGIN:VEVENT
DTSTAMP:20260424T144307Z
DTSTART:20181020T120000Z
DTEND:20181020T210000Z
TRANSP:TRANSPARENT
PRIORITY:0
SUMMARY:[Cancelled] LHS_ Basketball Trn
LOCATION:LHS Auxiliary Gym\, LHS Cokely Gym\, LHS Fieldhouse Gym
DESCRIPTION:Groups:\nLHS Boys Basketball\n\nSchools:\nLiberty High School\
 n\nLocations:\nLHS Auxiliary Gym\nLHS Cokely Gym\nLHS Fieldhouse Gym\n\n
URL;VALUE=URI:http://liberty53.tandem.co/index.php?type=view&action=event&
 id=327829
CREATED:20180927T152633Z
LAST-MODIFIED:20181018T193054Z
UID:event-327829-liberty53@intand.com
END:VEVENT
END:VCALENDAR
