BEGIN:VCALENDAR
VERSION:2.0
PRODID:-//Intand Corporation//Tandem//EN
METHOD:PUBLISH
BEGIN:VEVENT
DTSTAMP:20260424T061350Z
DTSTART;VALUE=DATE:20181105
DTEND;VALUE=DATE:20181106
TRANSP:TRANSPARENT
PRIORITY:0
SUMMARY:Title I Unit of Instruction / PIE "Communities"
LOCATION:ECC Fireplace Room
DESCRIPTION:Groups:\nPAT Staff\nECC Staff\n\nSchools:\nEarly Childhood Edu
 cation Center\n\nLocation:\nECC Fireplace Room\n\n*Cindy Phillips & Stacey
  McKee\, contacts.  \n\n \n\n
URL;VALUE=URI:http://liberty53.tandem.co/index.php?type=view&action=event&
 id=327718
CREATED:20180924T174213Z
LAST-MODIFIED:20180924T174213Z
UID:event-327718-liberty53@intand.com
END:VEVENT
END:VCALENDAR
