BEGIN:VCALENDAR
VERSION:2.0
PRODID:-//Intand Corporation//Tandem//EN
METHOD:PUBLISH
BEGIN:VEVENT
DTSTAMP:20260424T054208Z
DTSTART:20190412T230000Z
DTEND:20190413T010000Z
TRANSP:TRANSPARENT
PRIORITY:0
SUMMARY:LS- Family Fun Night
LOCATION:Lillian Schumacher Elementary
DESCRIPTION:Groups:\nLSE Staff\nLSE Parent\nLSE PTA\n\nSchools:\nLillian S
 chumacher Elementary\n\nLocation:\nLillian Schumacher Elementary\n\n
URL;VALUE=URI:http://liberty53.tandem.co/index.php?type=view&action=event&
 id=327711
CREATED:20180924T170747Z
LAST-MODIFIED:20180924T170747Z
UID:event-327711-liberty53@intand.com
END:VEVENT
END:VCALENDAR
