BEGIN:VCALENDAR
VERSION:2.0
PRODID:-//Intand Corporation//Tandem//EN
METHOD:PUBLISH
BEGIN:VEVENT
DTSTAMP:20260424T040511Z
DTSTART:20190118T000000Z
DTEND:20190118T020000Z
TRANSP:TRANSPARENT
PRIORITY:0
SUMMARY:LS- PTA Skate Night
LOCATION:Northland Rolladium Skating Rink
DESCRIPTION:Groups:\nLSE PTA\nLSE Parent\nLSE Staff\n\nSchools:\nLillian S
 chumacher Elementary\n\nLocation:\nNorthland Rolladium Skating Rink\n\n
URL;VALUE=URI:http://liberty53.tandem.co/index.php?type=view&action=event&
 id=327700
CREATED:20180924T164404Z
LAST-MODIFIED:20180924T164404Z
UID:event-327700-liberty53@intand.com
END:VEVENT
END:VCALENDAR
