BEGIN:VCALENDAR
VERSION:2.0
PRODID:-//Intand Corporation//Tandem//EN
METHOD:PUBLISH
BEGIN:VEVENT
DTSTAMP:20260424T073805Z
DTSTART:20180925T223000Z
DTEND:20180926T003000Z
TRANSP:TRANSPARENT
PRIORITY:0
SUMMARY:Youth Development Soccer
LOCATION:LNHS Aux Gym - 407 (GH HVAC)
DESCRIPTION:Groups:\nLNHS Soccer - Girls JV\n\nSchools:\nLiberty North Hig
 h School\n\nLocation:\nLNHS Aux Gym - 407 (GH HVAC)\n\n
URL;VALUE=URI:http://liberty53.tandem.co/index.php?type=view&action=event&
 id=327627
CREATED:20180924T020621Z
LAST-MODIFIED:20180928T143130Z
UID:event_request-327627-liberty53@intand.com
END:VEVENT
END:VCALENDAR
